BEGIN:VCALENDAR
VERSION:2.0
PRODID:-//Tamil Catholic Association USA - ECPv6.15.11//NONSGML v1.0//EN
CALSCALE:GREGORIAN
METHOD:PUBLISH
X-ORIGINAL-URL:https://tamilcatholicsusa.org
X-WR-CALDESC:Events for Tamil Catholic Association USA
REFRESH-INTERVAL;VALUE=DURATION:PT1H
X-Robots-Tag:noindex
X-PUBLISHED-TTL:PT1H
BEGIN:VTIMEZONE
TZID:UTC
BEGIN:STANDARD
TZOFFSETFROM:+0000
TZOFFSETTO:+0000
TZNAME:UTC
DTSTART:20240101T000000
END:STANDARD
END:VTIMEZONE
BEGIN:VEVENT
DTSTART;TZID=UTC:20250621T080000
DTEND;TZID=UTC:20250621T170000
DTSTAMP:20260424T015053
CREATED:20250523T183115Z
LAST-MODIFIED:20250528T133516Z
UID:30289-1750492800-1750525200@tamilcatholicsusa.org
SUMMARY:Blue Army Pligrimage
DESCRIPTION:Location: National Blue Army Shrine of Our Lady of Fathima 674 Mountain View Rd\, Asbury\, NJ 08802
URL:https://tamilcatholicsusa.org/event/blue-army-pligrimage/
CATEGORIES:TCA Mass
END:VEVENT
END:VCALENDAR