BEGIN:VCALENDAR
VERSION:2.0
PRODID:-//Tamil Catholic Association USA - ECPv6.15.11//NONSGML v1.0//EN
CALSCALE:GREGORIAN
METHOD:PUBLISH
X-WR-CALNAME:Tamil Catholic Association USA
X-ORIGINAL-URL:https://tamilcatholicsusa.org
X-WR-CALDESC:Events for Tamil Catholic Association USA
REFRESH-INTERVAL;VALUE=DURATION:PT1H
X-Robots-Tag:noindex
X-PUBLISHED-TTL:PT1H
BEGIN:VTIMEZONE
TZID:America/New_York
BEGIN:DAYLIGHT
TZOFFSETFROM:-0500
TZOFFSETTO:-0400
TZNAME:EDT
DTSTART:20250309T070000
END:DAYLIGHT
BEGIN:STANDARD
TZOFFSETFROM:-0400
TZOFFSETTO:-0500
TZNAME:EST
DTSTART:20251102T060000
END:STANDARD
BEGIN:DAYLIGHT
TZOFFSETFROM:-0500
TZOFFSETTO:-0400
TZNAME:EDT
DTSTART:20260308T070000
END:DAYLIGHT
BEGIN:STANDARD
TZOFFSETFROM:-0400
TZOFFSETTO:-0500
TZNAME:EST
DTSTART:20261101T060000
END:STANDARD
BEGIN:DAYLIGHT
TZOFFSETFROM:-0500
TZOFFSETTO:-0400
TZNAME:EDT
DTSTART:20270314T070000
END:DAYLIGHT
BEGIN:STANDARD
TZOFFSETFROM:-0400
TZOFFSETTO:-0500
TZNAME:EST
DTSTART:20271107T060000
END:STANDARD
END:VTIMEZONE
BEGIN:VEVENT
DTSTART;TZID=America/New_York:20260215T150000
DTEND;TZID=America/New_York:20260216T190000
DTSTAMP:20260420T135618
CREATED:20251118T133306Z
LAST-MODIFIED:20260223T165407Z
UID:30989-1771167600-1771268400@tamilcatholicsusa.org
SUMMARY:World Marriage Day Mass
DESCRIPTION:Location: Shrine of Saint Joseph\, 1050 Long Hill Rd\, Stirling\, NJ 07980 \nAgenda: Rosary\, Holy Mass\, Milestone Couple Celebration\, Dinner \nContact:
URL:https://tamilcatholicsusa.org/event/world-marriage-day-mass/
CATEGORIES:TCA Mass
END:VEVENT
END:VCALENDAR