BEGIN:VCALENDAR
VERSION:2.0
PRODID:-//Tamil Catholic Association USA - ECPv6.15.11//NONSGML v1.0//EN
CALSCALE:GREGORIAN
METHOD:PUBLISH
X-WR-CALNAME:Tamil Catholic Association USA
X-ORIGINAL-URL:https://tamilcatholicsusa.org
X-WR-CALDESC:Events for Tamil Catholic Association USA
REFRESH-INTERVAL;VALUE=DURATION:PT1H
X-Robots-Tag:noindex
X-PUBLISHED-TTL:PT1H
BEGIN:VTIMEZONE
TZID:America/New_York
BEGIN:DAYLIGHT
TZOFFSETFROM:-0500
TZOFFSETTO:-0400
TZNAME:EDT
DTSTART:20250309T070000
END:DAYLIGHT
BEGIN:STANDARD
TZOFFSETFROM:-0400
TZOFFSETTO:-0500
TZNAME:EST
DTSTART:20251102T060000
END:STANDARD
BEGIN:DAYLIGHT
TZOFFSETFROM:-0500
TZOFFSETTO:-0400
TZNAME:EDT
DTSTART:20260308T070000
END:DAYLIGHT
BEGIN:STANDARD
TZOFFSETFROM:-0400
TZOFFSETTO:-0500
TZNAME:EST
DTSTART:20261101T060000
END:STANDARD
BEGIN:DAYLIGHT
TZOFFSETFROM:-0500
TZOFFSETTO:-0400
TZNAME:EDT
DTSTART:20270314T070000
END:DAYLIGHT
BEGIN:STANDARD
TZOFFSETFROM:-0400
TZOFFSETTO:-0500
TZNAME:EST
DTSTART:20271107T060000
END:STANDARD
END:VTIMEZONE
BEGIN:VTIMEZONE
TZID:UTC
BEGIN:STANDARD
TZOFFSETFROM:+0000
TZOFFSETTO:+0000
TZNAME:UTC
DTSTART:20240101T000000
END:STANDARD
END:VTIMEZONE
BEGIN:VTIMEZONE
TZID:America/New_York
BEGIN:DAYLIGHT
TZOFFSETFROM:-0500
TZOFFSETTO:-0400
TZNAME:EDT
DTSTART:20240310T070000
END:DAYLIGHT
BEGIN:STANDARD
TZOFFSETFROM:-0400
TZOFFSETTO:-0500
TZNAME:EST
DTSTART:20241103T060000
END:STANDARD
BEGIN:DAYLIGHT
TZOFFSETFROM:-0500
TZOFFSETTO:-0400
TZNAME:EDT
DTSTART:20250309T070000
END:DAYLIGHT
BEGIN:STANDARD
TZOFFSETFROM:-0400
TZOFFSETTO:-0500
TZNAME:EST
DTSTART:20251102T060000
END:STANDARD
BEGIN:DAYLIGHT
TZOFFSETFROM:-0500
TZOFFSETTO:-0400
TZNAME:EDT
DTSTART:20260308T070000
END:DAYLIGHT
BEGIN:STANDARD
TZOFFSETFROM:-0400
TZOFFSETTO:-0500
TZNAME:EST
DTSTART:20261101T060000
END:STANDARD
END:VTIMEZONE
BEGIN:VEVENT
DTSTART;TZID=America/New_York:20260913T150000
DTEND;TZID=America/New_York:20260913T190000
DTSTAMP:20260421T101938
CREATED:20260121T170434Z
LAST-MODIFIED:20260223T163411Z
UID:33926-1789311600-1789326000@tamilcatholicsusa.org
SUMMARY:Back to School and Velankanni Matha Procession and Mass
DESCRIPTION:Location: St Cecilia Roman Catholic Church\, 10 Kingston Ln\, Monmouth Junction\, NJ 08852 \nAgenda: Rosary\, Holy Mass\,GB Meeting\, Dinner \nContact: connect@tamilcatholicsusa.org \nEvite Link:
URL:https://tamilcatholicsusa.org/event/back-to-school-and-velankanni-matha-procession-and-mass/
CATEGORIES:TCA Mass
END:VEVENT
BEGIN:VEVENT
DTSTART;TZID=America/New_York:20260906T090000
DTEND;TZID=America/New_York:20260906T110000
DTSTAMP:20260421T101938
CREATED:20260121T170215Z
LAST-MODIFIED:20260223T164431Z
UID:33924-1788685200-1788692400@tamilcatholicsusa.org
SUMMARY:Mother Theresa Event
DESCRIPTION:Location: St.Mother Theresa Convent\, 60 Jay St\, Newark\, NJ 07103 \nAgenda: Food Donation & Serving to Needy \nContact: connect@tamilcatholicsusa.org \nVolunteering Hours: 6 Hours
URL:https://tamilcatholicsusa.org/event/mother-theresa-event-2/
CATEGORIES:Volunteer
END:VEVENT
BEGIN:VEVENT
DTSTART;TZID=America/New_York:20260808T090000
DTEND;TZID=America/New_York:20260808T110000
DTSTAMP:20260421T101938
CREATED:20260121T170052Z
LAST-MODIFIED:20260223T164505Z
UID:33922-1786179600-1786186800@tamilcatholicsusa.org
SUMMARY:Community Food Bank  of NJ (CFBNJ)
DESCRIPTION:Location: 31 Evans Terminal Road\, Hillside\, NJ\, USA\n \nDate: (Date to be confirmed) \nAgenda: Food Donation & Serving to Needy \nContact: connect@tamilcatholicsusa.org \nVolunteering Hours: 6 Hours
URL:https://tamilcatholicsusa.org/event/community-food-bank-of-nj-cfbnj-2/
CATEGORIES:Volunteer
END:VEVENT
BEGIN:VEVENT
DTSTART;TZID=America/New_York:20260726T150000
DTEND;TZID=America/New_York:20260726T180000
DTSTAMP:20260421T101938
CREATED:20260121T165847Z
LAST-MODIFIED:20260223T164534Z
UID:33919-1785078000-1785088800@tamilcatholicsusa.org
SUMMARY:TCA Youth English Mass
DESCRIPTION:Location: Shrine of Saint Joseph\, 1050 Long Hill Rd\, Stirling\, NJ 07980 \nAgenda: Rosary\, Holy Mass\, Early Dinner \nContact: connect@tamilcatholicsusa.org \nEvite Link:
URL:https://tamilcatholicsusa.org/event/tca-youth-english-mass/
CATEGORIES:TCA Mass
END:VEVENT
BEGIN:VEVENT
DTSTART;TZID=America/New_York:20260719T120000
DTEND;TZID=America/New_York:20260719T170000
DTSTAMP:20260421T101938
CREATED:20260121T165512Z
LAST-MODIFIED:20260223T164600Z
UID:33916-1784462400-1784480400@tamilcatholicsusa.org
SUMMARY:NJ State Triathlon
DESCRIPTION:Location: Mercer County Park\, 1638 Old Trenton Rd West Windsor\, NJ \nAgenda: Distributing Kit to Participants \nContact: connect@tamilcatholicsusa.org \nVolunteering Hours: 12 Hours \n 
URL:https://tamilcatholicsusa.org/event/nj-state-triathlon/
CATEGORIES:Volunteer
END:VEVENT
BEGIN:VEVENT
DTSTART;TZID=America/New_York:20260620T140000
DTEND;TZID=America/New_York:20260620T180000
DTSTAMP:20260421T101938
CREATED:20260121T165325Z
LAST-MODIFIED:20260223T164628Z
UID:33913-1781964000-1781978400@tamilcatholicsusa.org
SUMMARY:Annual Blue Army  Shrine Pilgrimage & Mass
DESCRIPTION:Location: National Blue Army Shrine of Our Lady of Fatima\, 674 Mountain View Rd E\, Asbury\, NJ 08802TCA \nAgenda: Rosary\, Mary Car Procession\, Holy Mass\, Fun Games\, Early Dinner \nContact: connect@tamilcatholicsusa.org \nEvite Link:
URL:https://tamilcatholicsusa.org/event/annual-blue-army-shrine-pilgrimage-mass/
CATEGORIES:TCA Mass
END:VEVENT
BEGIN:VEVENT
DTSTART;TZID=America/New_York:20260607T090000
DTEND;TZID=America/New_York:20260607T110000
DTSTAMP:20260421T101938
CREATED:20260121T164451Z
LAST-MODIFIED:20260223T164656Z
UID:33909-1780822800-1780830000@tamilcatholicsusa.org
SUMMARY:Mother Theresa Event
DESCRIPTION:Location: St.Mother Theresa Convent\, 60 Jay St\, Newark\, NJ 07103 \nAgenda: Food Donation & Serving to Needy \nContact: connect@tamilcatholicsusa.org \nVolunteering Hours: 6 Hours
URL:https://tamilcatholicsusa.org/event/mother-theresa-event/
CATEGORIES:Volunteer
END:VEVENT
BEGIN:VEVENT
DTSTART;TZID=America/New_York:20260523T080000
DTEND;TZID=America/New_York:20260523T170000
DTSTAMP:20260421T101938
CREATED:20260121T161040Z
LAST-MODIFIED:20260223T164810Z
UID:33904-1779523200-1779555600@tamilcatholicsusa.org
SUMMARY:Retreat/Picnic @ Rosa Mistica Shrine
DESCRIPTION:2 Nights Retreat/Picnic at Rosa Mistica Shrine.  \nDetailed Agenda will be shared soon. \nIf interested to join\, Please reach us at : connect@tamilcatholicsusa.org \n  \n 
URL:https://tamilcatholicsusa.org/event/2-nights-retreat-picnic/
CATEGORIES:TCA Event
END:VEVENT
BEGIN:VEVENT
DTSTART;TZID=America/New_York:20260517T150000
DTEND;TZID=America/New_York:20260517T190000
DTSTAMP:20260421T101938
CREATED:20260121T122417Z
LAST-MODIFIED:20260223T164844Z
UID:33872-1779030000-1779044400@tamilcatholicsusa.org
SUMMARY:Mother’s Day Mass
DESCRIPTION:Location: Mary Mother of God Roman Catholic Church\, 157 S Triangle Rd\, Hillsborough\, NJ\, 08844 \nAgenda: Rosary\, Holy Mass\, Mothers Day Celebration\, Dinner \nContact: connect@tamilcatholicsusa.org \nEvite Link:
URL:https://tamilcatholicsusa.org/event/mothers-day-mass/
CATEGORIES:TCA Mass
END:VEVENT
BEGIN:VEVENT
DTSTART;TZID=America/New_York:20260502T090000
DTEND;TZID=America/New_York:20260502T110000
DTSTAMP:20260421T101938
CREATED:20260121T122059Z
LAST-MODIFIED:20260223T165047Z
UID:33870-1777712400-1777719600@tamilcatholicsusa.org
SUMMARY:Community Food Bank  of NJ (CFBNJ)
DESCRIPTION:Location: 31 Evans Terminal Road\, Hillside\, NJ\, USA \nAgenda: Food Donation & Serving to Needy \nContact: connect@tamilcatholicsusa.org \nVolunteering Hours: 6 Hours
URL:https://tamilcatholicsusa.org/event/community-food-bank-of-nj-cfbnj/
CATEGORIES:Volunteer
END:VEVENT
BEGIN:VEVENT
DTSTART;TZID=America/New_York:20260329T140000
DTEND;TZID=America/New_York:20260329T190000
DTSTAMP:20260421T101938
CREATED:20251118T143546Z
LAST-MODIFIED:20260219T032343Z
UID:30991-1774792800-1774810800@tamilcatholicsusa.org
SUMMARY:Palm Sunday Procession & Mass
DESCRIPTION:Location: St. Bernard of Clairvaux Church\, 500 US HWY 22\, Bridgewater\, NJ 08807 \nAgenda: Rosary\, Reflection & Prayer\, Snacks\, Palm Procession\, Holy Mass\, Dinner \nContact: connect@tamilcatholicsusa.org  \nEvite Link: \n 
URL:https://tamilcatholicsusa.org/event/palm-sunday-procession-mass/
CATEGORIES:TCA Mass
END:VEVENT
BEGIN:VEVENT
DTSTART;TZID=America/New_York:20260328T100000
DTEND;TZID=America/New_York:20260328T150000
DTSTAMP:20260421T101938
CREATED:20260121T121400Z
LAST-MODIFIED:20260223T165209Z
UID:33866-1774692000-1774710000@tamilcatholicsusa.org
SUMMARY:BMW Love Run Philly
DESCRIPTION:BMW Love Run Philly \nVolunteering: Distributing Love run Packs for Participants \nPennsylvania Convention Center Hall F 2451\nBenjamin Franklin Pkwy\, Philadelphia\, PA\n19130 \nContact: connect@tamilcatholicsusa.org
URL:https://tamilcatholicsusa.org/event/bmw-love-run-philly/
CATEGORIES:Volunteer
END:VEVENT
BEGIN:VEVENT
DTSTART;TZID=America/New_York:20260301T090000
DTEND;TZID=America/New_York:20260301T110000
DTSTAMP:20260421T101938
CREATED:20251118T144928Z
LAST-MODIFIED:20260223T165238Z
UID:30997-1772355600-1772362800@tamilcatholicsusa.org
SUMMARY:Mother Theresa Volunteering Event
DESCRIPTION:Location: St.Mother Theresa Convent\, 60 Jay St\, Newark\, NJ 07103 \nAgenda: Food Donation & Serving to Needy \nContact: Contact: connect@tamilcatholicsusa.org \nVolunteering Hours: 6 Hours
URL:https://tamilcatholicsusa.org/event/mother-theresa-volunteering-event-2/
CATEGORIES:Volunteer
END:VEVENT
BEGIN:VEVENT
DTSTART;TZID=America/New_York:20260215T150000
DTEND;TZID=America/New_York:20260216T190000
DTSTAMP:20260421T101938
CREATED:20251118T133306Z
LAST-MODIFIED:20260223T165407Z
UID:30989-1771167600-1771268400@tamilcatholicsusa.org
SUMMARY:World Marriage Day Mass
DESCRIPTION:Location: Shrine of Saint Joseph\, 1050 Long Hill Rd\, Stirling\, NJ 07980 \nAgenda: Rosary\, Holy Mass\, Milestone Couple Celebration\, Dinner \nContact:
URL:https://tamilcatholicsusa.org/event/world-marriage-day-mass/
CATEGORIES:TCA Mass
END:VEVENT
BEGIN:VEVENT
DTSTART;TZID=UTC:20260118T090000
DTEND;TZID=UTC:20260118T110000
DTSTAMP:20260421T101938
CREATED:20251118T144338Z
LAST-MODIFIED:20251118T144457Z
UID:30995-1768726800-1768734000@tamilcatholicsusa.org
SUMMARY:Mother Theresa Volunteering Event
DESCRIPTION:Location: St.Mother Theresa Convent\, 60 Jay St\, Newark\, NJ 07103 \nAgenda: Food Donation & Serving to Needy \nContact: King Sundarraj – 9179157968 \nVolunteering Hours: 6 Hours \nEvite Link: \nRegistration Link:
URL:https://tamilcatholicsusa.org/event/mother-theresa-volunteering-event/
CATEGORIES:Volunteer
END:VEVENT
BEGIN:VEVENT
DTSTART;TZID=UTC:20251214T080000
DTEND;TZID=UTC:20251214T170000
DTSTAMP:20260421T101938
CREATED:20250523T190535Z
LAST-MODIFIED:20250528T133750Z
UID:30312-1765699200-1765731600@tamilcatholicsusa.org
SUMMARY:Christmas
DESCRIPTION:Location: Sacred Heart Roman Catholic Church 324 Ridge Rd\, Lyndhurst\, NJ 07071
URL:https://tamilcatholicsusa.org/event/christmas/
CATEGORIES:TCA Mass
END:VEVENT
BEGIN:VEVENT
DTSTART;TZID=UTC:20251109T080000
DTEND;TZID=UTC:20251109T170000
DTSTAMP:20260421T101938
CREATED:20250523T185908Z
LAST-MODIFIED:20250528T133703Z
UID:30309-1762675200-1762707600@tamilcatholicsusa.org
SUMMARY:All Saints Day
DESCRIPTION:Location: St.Peter Apostle Church 179 Baldwin Rd\, Parsippany\, NJ 07054
URL:https://tamilcatholicsusa.org/event/all-saints-day/
CATEGORIES:TCA Mass
END:VEVENT
BEGIN:VEVENT
DTSTART;TZID=America/New_York:20251102T080000
DTEND;TZID=America/New_York:20251102T170000
DTSTAMP:20260421T101938
CREATED:20250528T142527Z
LAST-MODIFIED:20250528T142738Z
UID:30708-1762070400-1762102800@tamilcatholicsusa.org
SUMMARY:Mother Theresa Charity
DESCRIPTION:Location: 60 Jay St\, Newark\, NJ 07103 \nVolunteer Hrs: 6Hrs
URL:https://tamilcatholicsusa.org/event/mother-theresa-charity-3/
CATEGORIES:Volunteer
END:VEVENT
BEGIN:VEVENT
DTSTART;TZID=UTC:20250914T080000
DTEND;TZID=UTC:20250914T170000
DTSTAMP:20260421T101938
CREATED:20250523T185157Z
LAST-MODIFIED:20250528T133617Z
UID:30302-1757836800-1757869200@tamilcatholicsusa.org
SUMMARY:Back to School & Velankanni Mass
DESCRIPTION:Location: St.Cecelia Church 10 Kingston Ln\, Monmouth Junction\, NJ 08852
URL:https://tamilcatholicsusa.org/event/back-to-school-velankanni-mass/
CATEGORIES:TCA Mass
END:VEVENT
BEGIN:VEVENT
DTSTART;TZID=America/New_York:20250907T080000
DTEND;TZID=America/New_York:20250907T170000
DTSTAMP:20260421T101938
CREATED:20250528T142917Z
LAST-MODIFIED:20250528T142917Z
UID:30711-1757232000-1757264400@tamilcatholicsusa.org
SUMMARY:Mother Theresa Charity
DESCRIPTION:Location: 60 Jay St\, Newark\, NJ 07103 \nVolunteer Hrs: 6Hrs
URL:https://tamilcatholicsusa.org/event/mother-theresa-charity-4/
CATEGORIES:Volunteer
END:VEVENT
BEGIN:VEVENT
DTSTART;TZID=America/New_York:20250720T080000
DTEND;TZID=America/New_York:20250720T170000
DTSTAMP:20260421T101938
CREATED:20250528T142338Z
LAST-MODIFIED:20250528T142338Z
UID:30706-1752998400-1753030800@tamilcatholicsusa.org
SUMMARY:Challenge NJ State Triathlon
DESCRIPTION:Location: Mercer County Park\, 1638 Old Trenton Rd West Windsor\, NJ \nVolunteer Hrs: 12Hrs
URL:https://tamilcatholicsusa.org/event/challenge-nj-state-triathlon/
CATEGORIES:Volunteer
END:VEVENT
BEGIN:VEVENT
DTSTART;TZID=UTC:20250621T080000
DTEND;TZID=UTC:20250621T170000
DTSTAMP:20260421T101938
CREATED:20250523T183115Z
LAST-MODIFIED:20250528T133516Z
UID:30289-1750492800-1750525200@tamilcatholicsusa.org
SUMMARY:Blue Army Pligrimage
DESCRIPTION:Location: National Blue Army Shrine of Our Lady of Fathima 674 Mountain View Rd\, Asbury\, NJ 08802
URL:https://tamilcatholicsusa.org/event/blue-army-pligrimage/
CATEGORIES:TCA Mass
END:VEVENT
BEGIN:VEVENT
DTSTART;TZID=America/New_York:20250608T080000
DTEND;TZID=America/New_York:20250608T170000
DTSTAMP:20260421T101938
CREATED:20250528T141544Z
LAST-MODIFIED:20250528T141544Z
UID:30704-1749369600-1749402000@tamilcatholicsusa.org
SUMMARY:Mother Theresa Charity
DESCRIPTION:Location: 60 Jay St\, Newark\, NJ 07103 \nVolunteer Hrs: 6Hrs
URL:https://tamilcatholicsusa.org/event/mother-theresa-charity-2/
CATEGORIES:Volunteer
END:VEVENT
BEGIN:VEVENT
DTSTART;TZID=America/New_York:20250531T080000
DTEND;TZID=America/New_York:20250531T170000
DTSTAMP:20260421T101938
CREATED:20250528T135730Z
LAST-MODIFIED:20250528T140902Z
UID:30702-1748678400-1748710800@tamilcatholicsusa.org
SUMMARY:CFBNJ – Community Food Bank of NJ
DESCRIPTION:Location: 31 Evans Terminal Road\, Hillside\, NJ\, USA \nVolunteer Hrs: 6Hrs
URL:https://tamilcatholicsusa.org/event/cfbnj-community-food-bank-of-nj-2/
CATEGORIES:Volunteer
END:VEVENT
BEGIN:VEVENT
DTSTART;TZID=UTC:20250518T080000
DTEND;TZID=UTC:20250518T170000
DTSTAMP:20260421T101938
CREATED:20250523T182007Z
LAST-MODIFIED:20250528T132826Z
UID:30284-1747555200-1747587600@tamilcatholicsusa.org
SUMMARY:Mothers Day & Tamil New Year
DESCRIPTION:Location: Mother Mary of God Church 157 S Triangle Rd\, Hillsborough\, NJ 08844
URL:https://tamilcatholicsusa.org/event/mothers-day-tamil-new-year/
CATEGORIES:TCA Mass
END:VEVENT
BEGIN:VEVENT
DTSTART;TZID=America/New_York:20250426T080000
DTEND;TZID=America/New_York:20250426T170000
DTSTAMP:20260421T101938
CREATED:20250528T032114Z
LAST-MODIFIED:20250528T133123Z
UID:30661-1745654400-1745686800@tamilcatholicsusa.org
SUMMARY:CFBNJ – Community Food Bank of NJ
DESCRIPTION:Location: 31 Evans Terminal Road\, Hillside\, NJ\, USA \nVolunteer Hrs: 6Hrs
URL:https://tamilcatholicsusa.org/event/cfbnj-community-food-bank-of-nj/
CATEGORIES:Volunteer
END:VEVENT
BEGIN:VEVENT
DTSTART;TZID=UTC:20250413T080000
DTEND;TZID=UTC:20250413T170000
DTSTAMP:20260421T101938
CREATED:20250523T181726Z
LAST-MODIFIED:20250528T131757Z
UID:30281-1744531200-1744563600@tamilcatholicsusa.org
SUMMARY:Palm Sunday
DESCRIPTION:Location: St.Bernard Clairvaux church 500 Rt 22\, Bridgewater\, NJ 08807
URL:https://tamilcatholicsusa.org/event/palm-sunday/
CATEGORIES:TCA Mass
END:VEVENT
BEGIN:VEVENT
DTSTART;TZID=America/New_York:20250329T080000
DTEND;TZID=America/New_York:20250329T193000
DTSTAMP:20260421T101938
CREATED:20250528T135154Z
LAST-MODIFIED:20250528T135154Z
UID:30700-1743235200-1743276600@tamilcatholicsusa.org
SUMMARY:Love Run Philly
DESCRIPTION:Location: Philadelphia Art Museum\, 2451 Benjamin Franklin Pkwy\, Philadelphia \nVolunteer Hrs: 12Hrs
URL:https://tamilcatholicsusa.org/event/love-run-philly/
CATEGORIES:Volunteer
END:VEVENT
BEGIN:VEVENT
DTSTART;TZID=America/New_York:20250309T080000
DTEND;TZID=America/New_York:20250309T170000
DTSTAMP:20260421T101938
CREATED:20250528T134207Z
LAST-MODIFIED:20250528T134207Z
UID:30698-1741507200-1741539600@tamilcatholicsusa.org
SUMMARY:Mother Theresa Charity
DESCRIPTION:Location: 60 Jay St\, Newark\, NJ 07103 \nVolunteer Hrs: 6Hrs
URL:https://tamilcatholicsusa.org/event/mother-theresa-charity/
CATEGORIES:Volunteer
END:VEVENT
BEGIN:VEVENT
DTSTART;TZID=UTC:20250216T080000
DTEND;TZID=UTC:20250216T170000
DTSTAMP:20260421T101938
CREATED:20250523T181154Z
LAST-MODIFIED:20250528T131403Z
UID:30277-1739692800-1739725200@tamilcatholicsusa.org
SUMMARY:World Marriage Day
DESCRIPTION:  \nShrine of St.Joseph 1050 Long Hill Rd\, Stirling\, NJ 07980
URL:https://tamilcatholicsusa.org/event/world-marriage-day/
CATEGORIES:TCA Mass
END:VEVENT
END:VCALENDAR