BEGIN:VCALENDAR
VERSION:2.0
PRODID:-//Tamil Catholic Association USA - ECPv6.15.11//NONSGML v1.0//EN
CALSCALE:GREGORIAN
METHOD:PUBLISH
X-WR-CALNAME:Tamil Catholic Association USA
X-ORIGINAL-URL:https://tamilcatholicsusa.org
X-WR-CALDESC:Events for Tamil Catholic Association USA
REFRESH-INTERVAL;VALUE=DURATION:PT1H
X-Robots-Tag:noindex
X-PUBLISHED-TTL:PT1H
BEGIN:VTIMEZONE
TZID:America/New_York
BEGIN:DAYLIGHT
TZOFFSETFROM:-0500
TZOFFSETTO:-0400
TZNAME:EDT
DTSTART:20250309T070000
END:DAYLIGHT
BEGIN:STANDARD
TZOFFSETFROM:-0400
TZOFFSETTO:-0500
TZNAME:EST
DTSTART:20251102T060000
END:STANDARD
BEGIN:DAYLIGHT
TZOFFSETFROM:-0500
TZOFFSETTO:-0400
TZNAME:EDT
DTSTART:20260308T070000
END:DAYLIGHT
BEGIN:STANDARD
TZOFFSETFROM:-0400
TZOFFSETTO:-0500
TZNAME:EST
DTSTART:20261101T060000
END:STANDARD
BEGIN:DAYLIGHT
TZOFFSETFROM:-0500
TZOFFSETTO:-0400
TZNAME:EDT
DTSTART:20270314T070000
END:DAYLIGHT
BEGIN:STANDARD
TZOFFSETFROM:-0400
TZOFFSETTO:-0500
TZNAME:EST
DTSTART:20271107T060000
END:STANDARD
END:VTIMEZONE
BEGIN:VEVENT
DTSTART;TZID=America/New_York:20260913T150000
DTEND;TZID=America/New_York:20260913T190000
DTSTAMP:20260420T221140
CREATED:20260121T170434Z
LAST-MODIFIED:20260223T163411Z
UID:33926-1789311600-1789326000@tamilcatholicsusa.org
SUMMARY:Back to School and Velankanni Matha Procession and Mass
DESCRIPTION:Location: St Cecilia Roman Catholic Church\, 10 Kingston Ln\, Monmouth Junction\, NJ 08852 \nAgenda: Rosary\, Holy Mass\,GB Meeting\, Dinner \nContact: connect@tamilcatholicsusa.org \nEvite Link:
URL:https://tamilcatholicsusa.org/event/back-to-school-and-velankanni-matha-procession-and-mass/
CATEGORIES:TCA Mass
END:VEVENT
BEGIN:VEVENT
DTSTART;TZID=America/New_York:20261101T090000
DTEND;TZID=America/New_York:20261101T110000
DTSTAMP:20260420T221140
CREATED:20260121T170615Z
LAST-MODIFIED:20260223T163342Z
UID:33929-1793523600-1793530800@tamilcatholicsusa.org
SUMMARY:Mother Theresa Event
DESCRIPTION:Location: St.Mother Theresa Convent\, 60 Jay St\, Newark\, NJ 07103 \nAgenda: Food Donation & Serving to Needy \nContact: connect@tamilcatholicsusa.org \nVolunteering Hours: 6 Hours
URL:https://tamilcatholicsusa.org/event/mother-theresa-event-3/
CATEGORIES:Volunteer
END:VEVENT
BEGIN:VEVENT
DTSTART;TZID=America/New_York:20261108T150000
DTEND;TZID=America/New_York:20261108T190000
DTSTAMP:20260420T221140
CREATED:20260121T170759Z
LAST-MODIFIED:20260223T163319Z
UID:33931-1794150000-1794164400@tamilcatholicsusa.org
SUMMARY:All Souls Day  Mass
DESCRIPTION:Location: Shrine of Saint Joseph\, 1050 Long Hill Rd\, Stirling\, NJ 07980 \nAgenda: Rosary\, Holy Mass\,Dinner \nContact: connect@tamilcatholicsusa.org \nEvite Link:
URL:https://tamilcatholicsusa.org/event/all-souls-day-mass/
CATEGORIES:TCA Mass
END:VEVENT
BEGIN:VEVENT
DTSTART;TZID=America/New_York:20261213T150000
DTEND;TZID=America/New_York:20261213T200000
DTSTAMP:20260420T221140
CREATED:20260121T170933Z
LAST-MODIFIED:20260223T163152Z
UID:33936-1797174000-1797192000@tamilcatholicsusa.org
SUMMARY:Christmas Mass
DESCRIPTION:Location: Sacred Heart Roman Catholic Church\, 324 Ridge Road\, Lyndhurst\, NJ\, 07071 \nAgenda: Christmas Mass\, Snacks\, Christmas Celebration\, Grand Dinner \nContact: connect@tamilcatholicsusa.org \nEvite Link:
URL:https://tamilcatholicsusa.org/event/christmas-mass/
CATEGORIES:TCA Mass
END:VEVENT
END:VCALENDAR